Workbook

Sheet Диаграмма Ганта
A1: ДИАГРАММА ГАНТА
A2: Меняйте только белые ячейки: задачу, длительность, предшественника и процент выполнения. Даты считаются сами.
B4: Старт проекта: | C4: 46296
H5: =$C$4 -> 2026-10-01 00:00:00 | I5: =H5+1 -> 2026-10-02 00:00:00 | J5: =I5+1 -> 2026-10-03 00:00:00 | K5: =J5+1 -> 2026-10-04 00:00:00 | L5: =K5+1 -> 2026-10-05 00:00:00 | M5: =L5+1 -> 2026-10-06 00:00:00 | N5: =M5+1 -> 2026-10-07 00:00:00 | O5: =N5+1 -> 2026-10-08 00:00:00 | P5: =O5+1 -> 2026-10-09 00:00:00 | ... EG5: =EF5+1 -> 2027-02-07 00:00:00
A6: № | B6: Задача | C6: Начало | D6: Раб. дн. | E6: Окончание | F6: Выполнено | G6: Предш. № | H6: =$C$4 -> 2026-10-01 00:00:00 | I6: =H6+1 -> 2026-10-02 00:00:00 | J6: =I6+1 -> 2026-10-03 00:00:00 | K6: =J6+1 -> 2026-10-04 00:00:00 | L6: =K6+1 -> 2026-10-05 00:00:00 | M6: =L6+1 -> 2026-10-06 00:00:00 | N6: =M6+1 -> 2026-10-07 00:00:00 | O6: =N6+1 -> 2026-10-08 00:00:00 | P6: =O6+1 -> 2026-10-09 00:00:00 | ... EG6: =EF6+1 -> 2027-02-07 00:00:00
A7: 1 | B7: Разработка документации | C7: =IF($B7="","",IF($G7="",$C$4,WORKDAY(INDEX($E$7:$E$26,$G7),1,Праздники!$A$4:$A$20))) -> 2026-10-01 00:00:00 | D7: 20 | E7: =IF(OR($B7="",$D7=""),"",WORKDAY($C7,$D7-1,Праздники!$A$4:$A$20)) -> 2026-10-28 00:00:00 | F7: 1
A8: 2 | B8: Изготовление оборудования | C8: =IF($B8="","",IF($G8="",$C$4,WORKDAY(INDEX($E$7:$E$26,$G8),1,Праздники!$A$4:$A$20))) -> 2026-10-29 00:00:00 | D8: 45 | E8: =IF(OR($B8="",$D8=""),"",WORKDAY($C8,$D8-1,Праздники!$A$4:$A$20)) -> 2027-01-11 00:00:00 | F8: 0.6 | G8: 1
A9: 3 | B9: Поставка на объект | C9: =IF($B9="","",IF($G9="",$C$4,WORKDAY(INDEX($E$7:$E$26,$G9),1,Праздники!$A$4:$A$20))) -> 2027-01-12 00:00:00 | D9: 10 | E9: =IF(OR($B9="",$D9=""),"",WORKDAY($C9,$D9-1,Праздники!$A$4:$A$20)) -> 2027-01-25 00:00:00 | F9: 0 | G9: 2
A10: 4 | B10: Монтаж | C10: =IF($B10="","",IF($G10="",$C$4,WORKDAY(INDEX($E$7:$E$26,$G10),1,Праздники!$A$4:$A$20))) -> 2027-01-26 00:00:00 | D10: 25 | E10: =IF(OR($B10="",$D10=""),"",WORKDAY($C10,$D10-1,Праздники!$A$4:$A$20)) -> 2027-03-03 00:00:00 | F10: 0 | G10: 3
A11: 5 | B11: Пусконаладка и сдача | C11: =IF($B11="","",IF($G11="",$C$4,WORKDAY(INDEX($E$7:$E$26,$G11),1,Праздники!$A$4:$A$20))) -> 2027-03-04 00:00:00 | D11: 12 | E11: =IF(OR($B11="",$D11=""),"",WORKDAY($C11,$D11-1,Праздники!$A$4:$A$20)) -> 2027-03-22 00:00:00 | F11: 0 | G11: 4
A12: 6 | C12: =IF($B12="","",IF($G12="",$C$4,WORKDAY(INDEX($E$7:$E$26,$G12),1,Праздники!$A$4:$A$20))) | E12: =IF(OR($B12="",$D12=""),"",WORKDAY($C12,$D12-1,Праздники!$A$4:$A$20))
A13: 7 | C13: =IF($B13="","",IF($G13="",$C$4,WORKDAY(INDEX($E$7:$E$26,$G13),1,Праздники!$A$4:$A$20))) | E13: =IF(OR($B13="",$D13=""),"",WORKDAY($C13,$D13-1,Праздники!$A$4:$A$20))
A14: 8 | C14: =IF($B14="","",IF($G14="",$C$4,WORKDAY(INDEX($E$7:$E$26,$G14),1,Праздники!$A$4:$A$20))) | E14: =IF(OR($B14="",$D14=""),"",WORKDAY($C14,$D14-1,Праздники!$A$4:$A$20))
A15: 9 | C15: =IF($B15="","",IF($G15="",$C$4,WORKDAY(INDEX($E$7:$E$26,$G15),1,Праздники!$A$4:$A$20))) | E15: =IF(OR($B15="",$D15=""),"",WORKDAY($C15,$D15-1,Праздники!$A$4:$A$20))
A16: 10 | C16: =IF($B16="","",IF($G16="",$C$4,WORKDAY(INDEX($E$7:$E$26,$G16),1,Праздники!$A$4:$A$20))) | E16: =IF(OR($B16="",$D16=""),"",WORKDAY($C16,$D16-1,Праздники!$A$4:$A$20))
A17: 11 | C17: =IF($B17="","",IF($G17="",$C$4,WORKDAY(INDEX($E$7:$E$26,$G17),1,Праздники!$A$4:$A$20))) | E17: =IF(OR($B17="",$D17=""),"",WORKDAY($C17,$D17-1,Праздники!$A$4:$A$20))
A18: 12 | C18: =IF($B18="","",IF($G18="",$C$4,WORKDAY(INDEX($E$7:$E$26,$G18),1,Праздники!$A$4:$A$20))) | E18: =IF(OR($B18="",$D18=""),"",WORKDAY($C18,$D18-1,Праздники!$A$4:$A$20))
A19: 13 | C19: =IF($B19="","",IF($G19="",$C$4,WORKDAY(INDEX($E$7:$E$26,$G19),1,Праздники!$A$4:$A$20))) | E19: =IF(OR($B19="",$D19=""),"",WORKDAY($C19,$D19-1,Праздники!$A$4:$A$20))
A20: 14 | C20: =IF($B20="","",IF($G20="",$C$4,WORKDAY(INDEX($E$7:$E$26,$G20),1,Праздники!$A$4:$A$20))) | E20: =IF(OR($B20="",$D20=""),"",WORKDAY($C20,$D20-1,Праздники!$A$4:$A$20))
A21: 15 | C21: =IF($B21="","",IF($G21="",$C$4,WORKDAY(INDEX($E$7:$E$26,$G21),1,Праздники!$A$4:$A$20))) | E21: =IF(OR($B21="",$D21=""),"",WORKDAY($C21,$D21-1,Праздники!$A$4:$A$20))
A22: 16 | C22: =IF($B22="","",IF($G22="",$C$4,WORKDAY(INDEX($E$7:$E$26,$G22),1,Праздники!$A$4:$A$20))) | E22: =IF(OR($B22="",$D22=""),"",WORKDAY($C22,$D22-1,Праздники!$A$4:$A$20))
A23: 17 | C23: =IF($B23="","",IF($G23="",$C$4,WORKDAY(INDEX($E$7:$E$26,$G23),1,Праздники!$A$4:$A$20))) | E23: =IF(OR($B23="",$D23=""),"",WORKDAY($C23,$D23-1,Праздники!$A$4:$A$20))
... A26: 20 | C26: =IF($B26="","",IF($G26="",$C$4,WORKDAY(INDEX($E$7:$E$26,$G26),1,Праздники!$A$4:$A$20))) | E26: =IF(OR($B26="",$D26=""),"",WORKDAY($C26,$D26-1,Праздники!$A$4:$A$20))
B28: Как это работает
B29: • Начало берётся от предшественника: укажите его номер в колонке «Предш. №» — и задача встанет на следующий рабочий день после него.
B30: • Окончание считает формула WORKDAY (в русском Excel — РАБДЕНЬ): она пропускает выходные и даты с листа «Праздники».
B31: • Полоса в сетке рисуется условным форматированием, отдельной диаграммы нет — поэтому строки можно добавлять, копируя формулы вниз.
B32: • Зелёным показана выполненная часть полосы по колонке «Выполнено», оранжевой чертой — сегодняшний день.
B33: • Связь тут одна — «окончание-начало». Начало-начало, нахлёсты и задачу от двух предшественников сразу Excel так не соберёт.
B35: Шаблон со Сроки.PRO — sroki.pro. Там же этот график можно вести онлайн: связи между работами, производственный календарь РФ и деньги по этапам считаются сами, без ручного пересчёта.

Sheet Праздники
A1: НЕРАБОЧИЕ ДНИ
A2: Переносы на 2027 год — ПП РФ от 17.09.2026 № 1187. Список обновляется раз в год, иначе сроки поедут.
A4: 46330
A5: 46387
A6: 46388
A7: 46391
A8: 46392
A9: 46393
A10: 46394
A11: 46395
A12: 46440
A13: 46441
A14: 46454
A15: 46510
... A20: 46752
